BEGIN:VCALENDAR
VERSION:2.0
PRODID:-//wp-events-plugin.com//7.2.3.1//EN
TZID:Asia/Tokyo
X-WR-TIMEZONE:Asia/Tokyo
BEGIN:VEVENT
UID:459@soubukai.jp
DTSTART;TZID=Asia/Tokyo:20250504T090000
DTEND;TZID=Asia/Tokyo:20250504T110000
DTSTAMP:20250411T074646Z
URL:https://soubukai.jp/events/%ef%bc%94%e6%97%a5%e3%80%80%e7%a8%bd%e5%8f%
 a4%e5%a0%b4%e6%89%80/
SUMMARY:4日　稽古場所
DESCRIPTION:愛川町1号公園体育館　剣道場\n9：00～11：00\n\n
 詳しい場所の地図はこちら
END:VEVENT
BEGIN:VTIMEZONE
TZID:Asia/Tokyo
X-LIC-LOCATION:Asia/Tokyo
BEGIN:STANDARD
DTSTART:20240504T090000
TZOFFSETFROM:+0900
TZOFFSETTO:+0900
TZNAME:JST
END:STANDARD
END:VTIMEZONE
END:VCALENDAR