BEGIN:VCALENDAR
VERSION:2.0
PRODID:-//wp-events-plugin.com//7.2.3.1//EN
TZID:Asia/Tokyo
X-WR-TIMEZONE:Asia/Tokyo
BEGIN:VEVENT
UID:408@soubukai.jp
DTSTART;TZID=Asia/Tokyo:20240331T090000
DTEND;TZID=Asia/Tokyo:20240331T113000
DTSTAMP:20240204T052110Z
URL:https://soubukai.jp/events/31%e6%97%a5%e3%80%80%e7%9b%b8%e6%a8%a1%e5%8
 e%9f%e6%95%99%e5%ae%a4-2/
SUMMARY:31日　相模原教室
DESCRIPTION:相模原教室の練習日\n\n愛川町1号公園体育館　
 剣道場\n\n9：00～11：00\n\n詳しい場所の地図はこちら
END:VEVENT
BEGIN:VTIMEZONE
TZID:Asia/Tokyo
X-LIC-LOCATION:Asia/Tokyo
BEGIN:STANDARD
DTSTART:20230401T090000
TZOFFSETFROM:+0900
TZOFFSETTO:+0900
TZNAME:JST
END:STANDARD
END:VTIMEZONE
END:VCALENDAR