BEGIN:VCALENDAR
VERSION:2.0
PRODID:-//wp-events-plugin.com//7.2.3.1//EN
TZID:Asia/Tokyo
X-WR-TIMEZONE:Asia/Tokyo
BEGIN:VEVENT
UID:171@soubukai.jp
DTSTART;TZID=Asia/Tokyo:20210131T090000
DTEND;TZID=Asia/Tokyo:20210131T113000
DTSTAMP:20210110T070144Z
URL:https://soubukai.jp/events/31%e6%97%a5%e3%80%80%e7%9b%b8%e6%a8%a1%e5%8
 e%9f%e6%95%99%e5%ae%a4/
SUMMARY:31日　相模原教室　中止
DESCRIPTION:緊急事態宣言が発令された為、\n\n相模原市、
 厚木市の公共施設が全館休館となりました。\n\nよって
 、解除予定日の2月７日まで練習を中止致します。\n\nま
 た、再開時期につきましては今後の政府発表により変
 わります。\n\n何卒ご了承ください。\n\n&nbsp\;\n\n相武會
 代表：齋藤\n\n&nbsp\;\n\n&nbsp\;\n\n相模原教室　練習日\n\n&n
 bsp\;\n\n相模原市体育館　柔道場\n\n&nbsp\;\n\n9:00～11:30\n\n&
 nbsp\;\n\n詳しい場所の地図はこちら\n\n&nbsp\;
END:VEVENT
BEGIN:VTIMEZONE
TZID:Asia/Tokyo
X-LIC-LOCATION:Asia/Tokyo
BEGIN:STANDARD
DTSTART:20200201T090000
TZOFFSETFROM:+0900
TZOFFSETTO:+0900
TZNAME:JST
END:STANDARD
END:VTIMEZONE
END:VCALENDAR